BEGIN:VCALENDAR
VERSION:2.0
PRODID:icalendar-ruby
CALSCALE:GREGORIAN
METHOD:PUBLISH
BEGIN:VEVENT
DTSTAMP:20260422T072551Z
UID:120-859808@tricountychristianchurch.com
DTSTART:20260928T160000Z
DTEND:20260928T170000Z
CLASS:PUBLIC
CREATED:20260421T201304
DESCRIPTION:MEN'S BIBLE STUDY\nAll men are invited. We get together for a B
 ible Study with a topic especially relevant to men.
LAST-MODIFIED:20260421T201304
LOCATION:Home of Josh Voss (Contact the Church for more information.)
SUMMARY:MEN'S BIBLE STUDY
URL;VALUE=URI:https://www.tricountychristianchurch.com/events/mens-bible-st
 udy/2026-09-28
ATTACH;FILENAME=mens-bible-study.jpg;FMTTYPE=image/jpeg:https://dq5pwpg1q8r
 u0.cloudfront.net/2025/05/11/11/27/20/f3ff929b-fcff-4d68-a5ca-d3e8329092d5
 /mens-bible-study.jpg
END:VEVENT
END:VCALENDAR
